BEGIN:VCALENDAR
VERSION:2.0
PRODID:-//czechweekend - ECPv6.13.1//NONSGML v1.0//EN
CALSCALE:GREGORIAN
METHOD:PUBLISH
X-ORIGINAL-URL:https://czechweekend.com
X-WR-CALDESC:Events for czechweekend
REFRESH-INTERVAL;VALUE=DURATION:PT1H
X-Robots-Tag:noindex
X-PUBLISHED-TTL:PT1H
BEGIN:VTIMEZONE
TZID:Europe/Moscow
BEGIN:STANDARD
TZOFFSETFROM:+0300
TZOFFSETTO:+0300
TZNAME:MSK
DTSTART:20250101T000000
END:STANDARD
END:VTIMEZONE
BEGIN:VEVENT
DTSTART;TZID=Europe/Moscow:20250606T080000
DTEND;TZID=Europe/Moscow:20250608T210000
DTSTAMP:20260421T114737
CREATED:20240821T104118Z
LAST-MODIFIED:20250217T070447Z
UID:1463-1749196800-1749416400@czechweekend.com
SUMMARY:ألإبحار باليخت الشراعي
DESCRIPTION:لن تصدق … لكن نعم تستطيع التمتع على ظهر سفينه شراعيه في الجمهوريه التشيكيه مع العلم انه لا يحدها بحر  \n\n\n\n\n\n\n\n\n\n\n\n\n\n\n\n\n\n\n\n\n\n\n\n\n\n\n\n\n\n\n\n\n\n\n\n\n\n\n\n\n\n\n\nالسعر يشمل : الطيران ذهابا و إيابا \, حافلة سياحية مريحة ومكيفة\,  اليخت\, مرافق عربي \n\n\n\nالسعر لا يشمل : تأمينات\, ألنفقات الشخصيه\, جولات إختياريه\, إكراميه لمقدمي الخدمات المحليين\, إكراميه للمرشد العربي \n\n\n\n(من المقبول دفع 5 يورو للشخص الواحد في اليوم) \n\n\n\nإحجز الآن : 0546925000
URL:https://czechweekend.com/event/%d8%a3%d9%84%d8%a5%d8%a8%d8%ad%d8%a7%d8%b1-%d8%a8%d8%a7%d9%84%d9%8a%d8%ae%d8%aa-%d8%a7%d9%84%d8%b4%d8%b1%d8%a7%d8%b9%d9%8a/
ATTACH;FMTTYPE=image/jpeg:https://czechweekend.com/wp-content/uploads/2024/08/1.jpeg
END:VEVENT
END:VCALENDAR