BEGIN:VCALENDAR
VERSION:2.0
PRODID:-//czechweekend - ECPv6.13.1//NONSGML v1.0//EN
CALSCALE:GREGORIAN
METHOD:PUBLISH
X-WR-CALNAME:czechweekend
X-ORIGINAL-URL:https://czechweekend.com
X-WR-CALDESC:Events for czechweekend
REFRESH-INTERVAL;VALUE=DURATION:PT1H
X-Robots-Tag:noindex
X-PUBLISHED-TTL:PT1H
BEGIN:VTIMEZONE
TZID:Europe/Moscow
BEGIN:STANDARD
TZOFFSETFROM:+0300
TZOFFSETTO:+0300
TZNAME:MSK
DTSTART:20250101T000000
END:STANDARD
END:VTIMEZONE
BEGIN:VEVENT
DTSTART;TZID=Europe/Moscow:20250530T080000
DTEND;TZID=Europe/Moscow:20250601T210000
DTSTAMP:20260419T154225
CREATED:20240725T100835Z
LAST-MODIFIED:20250217T070418Z
UID:1312-1748592000-1748811600@czechweekend.com
SUMMARY:على الدراجه الناريه في التشيك
DESCRIPTION:رحله استطلاعيه على الدراجات الناريه في التشيك تشمل براغ وبرنو و تشيسكي كروملوف . 621 كم من الطرق الرائعه الجمال. يتخلل الرحله حلبة برنو وهي حلبة للسباقات الدوليه للدراجات الناريه . ممكن استأجار أي نوع من الدراجات الناريه مع كل مستلزماتها من خوذه\, ستره واقيه\, كفوف وحتى الصناديق الجانبيه \n\n\n\n\n\n\n\n\n\n\n\n\n\n\n\n\n\n\n\n\n\n\n\n \n\n\n\n\n \n\n\n\n\n\n\n\n\n\n\n\n\n\n\n\n\n\n\n\n\n\n\n\n\n\n\n\n\nالسعر يشمل : الطيران ذهابا و إيابا \, حافلة سياحية مريحة ومكيفة\, إيجار الدراجه الناريه مع خوذه وستره و قفازات و صناديق جانبيه\, الإقامة في فنادق سياحية من الدرجة الأولى (★★★★)\, مبيت و إفطار \, دخوليات المواقع كما هو موضح في سير الرحلة\, مرافق عربي \n\n\n\nالسعر لا يشمل : تأمينات\, ألنفقات الشخصيه\, جولات إختياريه\, إكراميه لمقدمي الخدمات المحليين\, إكراميه للمرشد العربي  (من المقبول دفع 5 يورو للشخص الواحد في اليوم) \n\n\n\nإحجز الآن : 0546925000
URL:https://czechweekend.com/event/%d8%b9%d9%84%d9%89-%d8%a7%d9%84%d8%af%d8%b1%d8%a7%d8%ac%d9%87-%d8%a7%d9%84%d9%86%d8%a7%d8%b1%d9%8a%d9%87-%d9%81%d9%8a-%d8%a7%d9%84%d8%aa%d8%b4%d9%8a%d9%83/
ATTACH;FMTTYPE=image/jpeg:https://czechweekend.com/wp-content/uploads/2024/07/pexels-kelly-1179532-2519372-scaled.jpg
END:VEVENT
END:VCALENDAR