BEGIN:VCALENDAR
VERSION:2.0
PRODID:-//czechweekend - ECPv6.13.1//NONSGML v1.0//EN
CALSCALE:GREGORIAN
METHOD:PUBLISH
X-WR-CALNAME:czechweekend
X-ORIGINAL-URL:https://czechweekend.com
X-WR-CALDESC:Events for czechweekend
REFRESH-INTERVAL;VALUE=DURATION:PT1H
X-Robots-Tag:noindex
X-PUBLISHED-TTL:PT1H
BEGIN:VTIMEZONE
TZID:Europe/Moscow
BEGIN:STANDARD
TZOFFSETFROM:+0300
TZOFFSETTO:+0300
TZNAME:MSK
DTSTART:20250101T000000
END:STANDARD
END:VTIMEZONE
BEGIN:VEVENT
DTSTART;TZID=Europe/Moscow:20250501T080000
DTEND;TZID=Europe/Moscow:20250504T210000
DTSTAMP:20260421T124500
CREATED:20241008T074325Z
LAST-MODIFIED:20250409T052825Z
UID:1577-1746086400-1746392400@czechweekend.com
SUMMARY:رحله الربيع مع الأطفال
DESCRIPTION:في هذا الأسبوع بالذات نهايه أسبوع مُطَوّله وسنبدأ من يوم الخميس وستكون الرحله لثلاث ليالي . مباشره بعد هبوط الطائره  سنزور مدينه دهاليز الأطفال   \n\n\n\n\n\n\n\n\n\nمن هناك سنتوجه لفندق عالم المياه  \n\n\n\n\n\n\n\n \n\n\n\n\n\n\n\n\n\n\n\n\n\n\n\n في يوم الجمعه مساء سنزورالمعالم الرئيسيه في مدينه براغ ونختم في مطعم القاطرات  \n\n\n\n\n\n\n\nفي يوم السبت سنزور مدينه كوتنا هورا  \n\n\n\n\n\n\n\nهناك سنزور كنيسه القديسه باربرا وكنيسه العظام \n\n\n\n\n\n\n\nو منجم الفضة من العصور الوسطى \n\n\n\n\n\n\n\nيوم الأحد سنزور حديقه الحيوانات في براغ  \n\n\n\n\n\n\n\n\n\n\n\n\n\n\n\nبعدها سنشاهد مركز مدينه براغ على متن القارب \n\n\n\n\n\n\n\n\n\n\n\n\n\n\n\n\n\nالسعر يشمل : الطيران ذهابا و إيابا \, الإقامة في فنادق سياحية من الدرجة الأولى (★★★★)\, مبيت و إفطار  \n\n\n\nالسعر لا يشمل : تأمينات\, ألنفقات الشخصيه\, جولات إختياريه\, إكراميه لمقدمي الخدمات المحليين \n\n\n\nإحجز الآن : 0546925000
URL:https://czechweekend.com/event/%d8%b1%d8%ad%d9%84%d9%87-%d9%85%d8%b9-%d8%a7%d9%84%d8%a3%d8%b7%d9%81%d8%a7%d9%84/
ATTACH;FMTTYPE=image/jpeg:https://czechweekend.com/wp-content/uploads/2024/10/aqua1.jpg
END:VEVENT
END:VCALENDAR